BEGIN:VCALENDAR
VERSION:2.0
PRODID:-//Communities for Sustainable Monterey County - ECPv6.15.18//NONSGML v1.0//EN
CALSCALE:GREGORIAN
METHOD:PUBLISH
X-WR-CALNAME:Communities for Sustainable Monterey County
X-ORIGINAL-URL:https://test.sustainablemontereycounty.org
X-WR-CALDESC:Events for Communities for Sustainable Monterey County
REFRESH-INTERVAL;VALUE=DURATION:PT1H
X-Robots-Tag:noindex
X-PUBLISHED-TTL:PT1H
BEGIN:VTIMEZONE
TZID:America/Los_Angeles
BEGIN:DAYLIGHT
TZOFFSETFROM:-0800
TZOFFSETTO:-0700
TZNAME:PDT
DTSTART:20220313T100000
END:DAYLIGHT
BEGIN:STANDARD
TZOFFSETFROM:-0700
TZOFFSETTO:-0800
TZNAME:PST
DTSTART:20221106T090000
END:STANDARD
BEGIN:DAYLIGHT
TZOFFSETFROM:-0800
TZOFFSETTO:-0700
TZNAME:PDT
DTSTART:20230312T100000
END:DAYLIGHT
BEGIN:STANDARD
TZOFFSETFROM:-0700
TZOFFSETTO:-0800
TZNAME:PST
DTSTART:20231105T090000
END:STANDARD
BEGIN:DAYLIGHT
TZOFFSETFROM:-0800
TZOFFSETTO:-0700
TZNAME:PDT
DTSTART:20240310T100000
END:DAYLIGHT
BEGIN:STANDARD
TZOFFSETFROM:-0700
TZOFFSETTO:-0800
TZNAME:PST
DTSTART:20241103T090000
END:STANDARD
BEGIN:DAYLIGHT
TZOFFSETFROM:-0800
TZOFFSETTO:-0700
TZNAME:PDT
DTSTART:20250309T100000
END:DAYLIGHT
BEGIN:STANDARD
TZOFFSETFROM:-0700
TZOFFSETTO:-0800
TZNAME:PST
DTSTART:20251102T090000
END:STANDARD
END:VTIMEZONE
BEGIN:VEVENT
DTSTART;TZID=America/Los_Angeles:20240615T100000
DTEND;TZID=America/Los_Angeles:20240615T120000
DTSTAMP:20260423T104955
CREATED:20240508T232153Z
LAST-MODIFIED:20250621T041006Z
UID:10001129-1718445600-1718452800@test.sustainablemontereycounty.org
SUMMARY:Seaside Parks Pollinator Habitat Workday Series
DESCRIPTION:Join Friends of Seaside Parks (FOSPA) each Saturday\, 10 am to 12 pm\, at a different “FOSPA” park in Seaside\, California. FOSPA\, the City of Seaside\, Sustainable Seaside\, and other community partners work together to maintain and enhance Seaside’s neighborhood parks.  \nFind the Schedule of Pollinator Habitat Gardening Workdays in Seaside parks HERE.  Workdays rotate between nine Seaside neighborhood parks. \nClick the park name for a MAP. \n\nBeta Park\nCapra Park\nDurant Park\nFarallones Park\nHavana Soliz Park\nHighland Otis Park\nLincoln Cunningham Park\nMartin Park \nMescal Neil Park \nPacchetti Dog Park\n\nFOSPA is a volunteer-led non-profit organization that supports the development and maintenance of parks and open green spaces in the City of Seaside\, California. Volunteers create thriving habitats for pollinators and wildlife by planting native trees and pollinator-attracting plants.  Volunteers are invited to each Saturday Pollinator Habitat Workday.  \nFriends of Seaside Parks Association is a 501c3 nonprofit and works collaboratively with the City of Seaside\, Public Works\, Sustainable Seaside\, Resource Conservation District of Monterey County\, Blue Zones Project of Monterey County\, Habitat Stewardship Project Monterey Bay\, a host of dedicated volunteers\, and other community partners. Learn more here.
URL:https://test.sustainablemontereycounty.org/event/seaside-community-garden-workday-series/2024-06-15/
LOCATION:Seaside Parks\, 986 Hilby Ave\, Seaside\, CA\, 93955\, United States
ORGANIZER;CN="Friends of Seaside Parks":MAILTO:fospa.info@gmail.com
END:VEVENT
BEGIN:VEVENT
DTSTART;TZID=America/Los_Angeles:20240608T100000
DTEND;TZID=America/Los_Angeles:20240608T120000
DTSTAMP:20260423T104955
CREATED:20240508T232153Z
LAST-MODIFIED:20250621T041006Z
UID:10001128-1717840800-1717848000@test.sustainablemontereycounty.org
SUMMARY:Seaside Parks Pollinator Habitat Workday Series
DESCRIPTION:Join Friends of Seaside Parks (FOSPA) each Saturday\, 10 am to 12 pm\, at a different “FOSPA” park in Seaside\, California. FOSPA\, the City of Seaside\, Sustainable Seaside\, and other community partners work together to maintain and enhance Seaside’s neighborhood parks.  \nFind the Schedule of Pollinator Habitat Gardening Workdays in Seaside parks HERE.  Workdays rotate between nine Seaside neighborhood parks. \nClick the park name for a MAP. \n\nBeta Park\nCapra Park\nDurant Park\nFarallones Park\nHavana Soliz Park\nHighland Otis Park\nLincoln Cunningham Park\nMartin Park \nMescal Neil Park \nPacchetti Dog Park\n\nFOSPA is a volunteer-led non-profit organization that supports the development and maintenance of parks and open green spaces in the City of Seaside\, California. Volunteers create thriving habitats for pollinators and wildlife by planting native trees and pollinator-attracting plants.  Volunteers are invited to each Saturday Pollinator Habitat Workday.  \nFriends of Seaside Parks Association is a 501c3 nonprofit and works collaboratively with the City of Seaside\, Public Works\, Sustainable Seaside\, Resource Conservation District of Monterey County\, Blue Zones Project of Monterey County\, Habitat Stewardship Project Monterey Bay\, a host of dedicated volunteers\, and other community partners. Learn more here.
URL:https://test.sustainablemontereycounty.org/event/seaside-community-garden-workday-series/2024-06-08/
LOCATION:Seaside Parks\, 986 Hilby Ave\, Seaside\, CA\, 93955\, United States
ORGANIZER;CN="Friends of Seaside Parks":MAILTO:fospa.info@gmail.com
END:VEVENT
BEGIN:VEVENT
DTSTART;TZID=America/Los_Angeles:20240601T100000
DTEND;TZID=America/Los_Angeles:20240601T120000
DTSTAMP:20260423T104955
CREATED:20240508T232153Z
LAST-MODIFIED:20250621T041006Z
UID:10001127-1717236000-1717243200@test.sustainablemontereycounty.org
SUMMARY:Seaside Parks Pollinator Habitat Workday Series
DESCRIPTION:Join Friends of Seaside Parks (FOSPA) each Saturday\, 10 am to 12 pm\, at a different “FOSPA” park in Seaside\, California. FOSPA\, the City of Seaside\, Sustainable Seaside\, and other community partners work together to maintain and enhance Seaside’s neighborhood parks.  \nFind the Schedule of Pollinator Habitat Gardening Workdays in Seaside parks HERE.  Workdays rotate between nine Seaside neighborhood parks. \nClick the park name for a MAP. \n\nBeta Park\nCapra Park\nDurant Park\nFarallones Park\nHavana Soliz Park\nHighland Otis Park\nLincoln Cunningham Park\nMartin Park \nMescal Neil Park \nPacchetti Dog Park\n\nFOSPA is a volunteer-led non-profit organization that supports the development and maintenance of parks and open green spaces in the City of Seaside\, California. Volunteers create thriving habitats for pollinators and wildlife by planting native trees and pollinator-attracting plants.  Volunteers are invited to each Saturday Pollinator Habitat Workday.  \nFriends of Seaside Parks Association is a 501c3 nonprofit and works collaboratively with the City of Seaside\, Public Works\, Sustainable Seaside\, Resource Conservation District of Monterey County\, Blue Zones Project of Monterey County\, Habitat Stewardship Project Monterey Bay\, a host of dedicated volunteers\, and other community partners. Learn more here.
URL:https://test.sustainablemontereycounty.org/event/seaside-community-garden-workday-series/2024-06-01/
LOCATION:Seaside Parks\, 986 Hilby Ave\, Seaside\, CA\, 93955\, United States
ORGANIZER;CN="Friends of Seaside Parks":MAILTO:fospa.info@gmail.com
END:VEVENT
BEGIN:VEVENT
DTSTART;TZID=America/Los_Angeles:20240525T100000
DTEND;TZID=America/Los_Angeles:20240525T120000
DTSTAMP:20260423T104955
CREATED:20240508T232153Z
LAST-MODIFIED:20250621T041006Z
UID:10001126-1716631200-1716638400@test.sustainablemontereycounty.org
SUMMARY:Seaside Parks Pollinator Habitat Workday Series
DESCRIPTION:Join Friends of Seaside Parks (FOSPA) each Saturday\, 10 am to 12 pm\, at a different “FOSPA” park in Seaside\, California. FOSPA\, the City of Seaside\, Sustainable Seaside\, and other community partners work together to maintain and enhance Seaside’s neighborhood parks.  \nFind the Schedule of Pollinator Habitat Gardening Workdays in Seaside parks HERE.  Workdays rotate between nine Seaside neighborhood parks. \nClick the park name for a MAP. \n\nBeta Park\nCapra Park\nDurant Park\nFarallones Park\nHavana Soliz Park\nHighland Otis Park\nLincoln Cunningham Park\nMartin Park \nMescal Neil Park \nPacchetti Dog Park\n\nFOSPA is a volunteer-led non-profit organization that supports the development and maintenance of parks and open green spaces in the City of Seaside\, California. Volunteers create thriving habitats for pollinators and wildlife by planting native trees and pollinator-attracting plants.  Volunteers are invited to each Saturday Pollinator Habitat Workday.  \nFriends of Seaside Parks Association is a 501c3 nonprofit and works collaboratively with the City of Seaside\, Public Works\, Sustainable Seaside\, Resource Conservation District of Monterey County\, Blue Zones Project of Monterey County\, Habitat Stewardship Project Monterey Bay\, a host of dedicated volunteers\, and other community partners. Learn more here.
URL:https://test.sustainablemontereycounty.org/event/seaside-community-garden-workday-series/2024-05-25/
LOCATION:Seaside Parks\, 986 Hilby Ave\, Seaside\, CA\, 93955\, United States
ORGANIZER;CN="Friends of Seaside Parks":MAILTO:fospa.info@gmail.com
END:VEVENT
BEGIN:VEVENT
DTSTART;TZID=America/Los_Angeles:20240518T100000
DTEND;TZID=America/Los_Angeles:20240518T120000
DTSTAMP:20260423T104955
CREATED:20240508T232153Z
LAST-MODIFIED:20250621T041006Z
UID:10001125-1716026400-1716033600@test.sustainablemontereycounty.org
SUMMARY:Seaside Parks Pollinator Habitat Workday Series
DESCRIPTION:Join Friends of Seaside Parks (FOSPA) each Saturday\, 10 am to 12 pm\, at a different “FOSPA” park in Seaside\, California. FOSPA\, the City of Seaside\, Sustainable Seaside\, and other community partners work together to maintain and enhance Seaside’s neighborhood parks.  \nFind the Schedule of Pollinator Habitat Gardening Workdays in Seaside parks HERE.  Workdays rotate between nine Seaside neighborhood parks. \nClick the park name for a MAP. \n\nBeta Park\nCapra Park\nDurant Park\nFarallones Park\nHavana Soliz Park\nHighland Otis Park\nLincoln Cunningham Park\nMartin Park \nMescal Neil Park \nPacchetti Dog Park\n\nFOSPA is a volunteer-led non-profit organization that supports the development and maintenance of parks and open green spaces in the City of Seaside\, California. Volunteers create thriving habitats for pollinators and wildlife by planting native trees and pollinator-attracting plants.  Volunteers are invited to each Saturday Pollinator Habitat Workday.  \nFriends of Seaside Parks Association is a 501c3 nonprofit and works collaboratively with the City of Seaside\, Public Works\, Sustainable Seaside\, Resource Conservation District of Monterey County\, Blue Zones Project of Monterey County\, Habitat Stewardship Project Monterey Bay\, a host of dedicated volunteers\, and other community partners. Learn more here.
URL:https://test.sustainablemontereycounty.org/event/seaside-community-garden-workday-series/2024-05-18/
LOCATION:Seaside Parks\, 986 Hilby Ave\, Seaside\, CA\, 93955\, United States
ORGANIZER;CN="Friends of Seaside Parks":MAILTO:fospa.info@gmail.com
END:VEVENT
BEGIN:VEVENT
DTSTART;TZID=America/Los_Angeles:20240511T100000
DTEND;TZID=America/Los_Angeles:20240511T120000
DTSTAMP:20260423T104955
CREATED:20240508T232153Z
LAST-MODIFIED:20250621T041006Z
UID:10000864-1715421600-1715428800@test.sustainablemontereycounty.org
SUMMARY:Seaside Parks Pollinator Habitat Workday Series
DESCRIPTION:Join Friends of Seaside Parks (FOSPA) each Saturday\, 10 am to 12 pm\, at a different “FOSPA” park in Seaside\, California. FOSPA\, the City of Seaside\, Sustainable Seaside\, and other community partners work together to maintain and enhance Seaside’s neighborhood parks.  \nFind the Schedule of Pollinator Habitat Gardening Workdays in Seaside parks HERE.  Workdays rotate between nine Seaside neighborhood parks. \nClick the park name for a MAP. \n\nBeta Park\nCapra Park\nDurant Park\nFarallones Park\nHavana Soliz Park\nHighland Otis Park\nLincoln Cunningham Park\nMartin Park \nMescal Neil Park \nPacchetti Dog Park\n\nFOSPA is a volunteer-led non-profit organization that supports the development and maintenance of parks and open green spaces in the City of Seaside\, California. Volunteers create thriving habitats for pollinators and wildlife by planting native trees and pollinator-attracting plants.  Volunteers are invited to each Saturday Pollinator Habitat Workday.  \nFriends of Seaside Parks Association is a 501c3 nonprofit and works collaboratively with the City of Seaside\, Public Works\, Sustainable Seaside\, Resource Conservation District of Monterey County\, Blue Zones Project of Monterey County\, Habitat Stewardship Project Monterey Bay\, a host of dedicated volunteers\, and other community partners. Learn more here.
URL:https://test.sustainablemontereycounty.org/event/seaside-community-garden-workday-series/2024-05-11/
LOCATION:Seaside Parks\, 986 Hilby Ave\, Seaside\, CA\, 93955\, United States
ORGANIZER;CN="Friends of Seaside Parks":MAILTO:fospa.info@gmail.com
END:VEVENT
BEGIN:VEVENT
DTSTART;TZID=America/Los_Angeles:20240106T100000
DTEND;TZID=America/Los_Angeles:20240106T120000
DTSTAMP:20260423T104955
CREATED:20231009T055807Z
LAST-MODIFIED:20231009T060436Z
UID:10000081-1704535200-1704542400@test.sustainablemontereycounty.org
SUMMARY:Beta Park Workday - Seaside
DESCRIPTION:Join Friends of Seaside Parks  (FOSPA) at Beta Park 10 am -12 pm. Tools will be provided.  Please bring your own work gloves\, drinking water\, snacks\, and a positive community spirit.\n\n\n\nVolunteers gather in a different Seaside neighborhood park each Saturday from 10 am to 12 pm rain or shine!\n\nLocated between Vallejo\, Luzern and St. Elmo Streets. \n\n\n\n\nFind the full workday event calendar on the FOSPA website:  http://friendsofseasideparks.org/
URL:https://test.sustainablemontereycounty.org/event/beta-park-workday-seaside/2024-01-06/
LOCATION:Beta Park\, between Vallejo and Soto St\, Seaside\, CA\, 93955
ORGANIZER;CN="Friends of Seaside Parks":MAILTO:fospa.info@gmail.com
END:VEVENT
BEGIN:VEVENT
DTSTART;TZID=America/Los_Angeles:20231223T100000
DTEND;TZID=America/Los_Angeles:20231223T120000
DTSTAMP:20260423T104955
CREATED:20231009T055258Z
LAST-MODIFIED:20231009T055331Z
UID:10000077-1703325600-1703332800@test.sustainablemontereycounty.org
SUMMARY:Mescal Neil Park Workday - Seaside
DESCRIPTION:Join Friends of Seaside Parks  (FOSPA) at Mescal Neil Park 10 am -12 pm. Tools will be provided.  Please bring your own work gloves\, drinking water\, snacks\, and a positive community spirit.\n\n\n\nVolunteers gather in a different Seaside neighborhood park each Saturday from 10 am to 12 pm rain or shine!\n\nBetween San Pablo Avenue\, Lincoln Street\, and Yerba Buena Court.\n\n\n\n\nFind the full workday event calendar on the FOSPA website:  http://friendsofseasideparks.org/
URL:https://test.sustainablemontereycounty.org/event/mescal-neil-park-workday-seaside/2023-12-23/
LOCATION:Mescal Neil Park\, Seaside\, CA\, Off Mescal Street between Ancon Street and Costa Street\, Seaside\, CA\, 93955-4003\, United States
ORGANIZER;CN="Friends of Seaside Parks":MAILTO:fospa.info@gmail.com
END:VEVENT
BEGIN:VEVENT
DTSTART;TZID=America/Los_Angeles:20231216T100000
DTEND;TZID=America/Los_Angeles:20231216T120000
DTSTAMP:20260423T104955
CREATED:20231009T054616Z
LAST-MODIFIED:20231009T054713Z
UID:10000073-1702720800-1702728000@test.sustainablemontereycounty.org
SUMMARY:Havana Soliz Park Workday - Seaside
DESCRIPTION:Join Friends of Seaside Parks  (FOSPA) at Havana Soliz Park 10 am -12 pm. Tools will be provided.  Please bring your own work gloves\, drinking water\, snacks\, and a positive community spirit.\n\n\n\nVolunteers gather in a different Seaside neighborhood park each Saturday from 10 am to 12 pm rain or shine!\n\nLocated between Havana Street\, Lincoln Street\, and San Pablo Avenue. \n\n\n\n\nFind the full workday event calendar on the FOSPA website:  http://friendsofseasideparks.org/
URL:https://test.sustainablemontereycounty.org/event/havana-soliz-park-workday-seaside/2023-12-16/
LOCATION:Havana Soliz Park\, Seaside\, CA\, Between Lincoln Street and Havana Street\, Seaside\, CA\, 93955-4003\, United States
ORGANIZER;CN="Friends of Seaside Parks":MAILTO:fospa.info@gmail.com
END:VEVENT
BEGIN:VEVENT
DTSTART;TZID=America/Los_Angeles:20231209T100000
DTEND;TZID=America/Los_Angeles:20231209T120000
DTSTAMP:20260423T104955
CREATED:20231009T053809Z
LAST-MODIFIED:20231009T053809Z
UID:10000069-1702116000-1702123200@test.sustainablemontereycounty.org
SUMMARY:Lincoln Cunningham Park Workday - Seaside
DESCRIPTION:Join Friends of Seaside Parks  (FOSPA) at Lincoln Cunningham Park 10 am -12 pm. Tools will be provided.  Please bring your own work gloves\, drinking water\, snacks\, and a positive community spirit.\n\n\n\nVolunteers gather in a different Seaside neighborhood park each Saturday from 10 am to 12 pm rain or shine!\n\nBetween San Pablo Avenue\, Lincoln Street\, and Yerba Buena Court.\n\n\n\n\nFind the full workday event calendar on the FOSPA website:  http://friendsofseasideparks.org/
URL:https://test.sustainablemontereycounty.org/event/lincoln-cunningham-park-workday-seaside/2023-12-09/
LOCATION:Lincoln Cunningham Park\, Seaside\, CA\, J58F+5FX\, Seaside\, CA\, 93955\, United States
ORGANIZER;CN="Friends of Seaside Parks":MAILTO:fospa.info@gmail.com
END:VEVENT
BEGIN:VEVENT
DTSTART;TZID=America/Los_Angeles:20231104T100000
DTEND;TZID=America/Los_Angeles:20231104T120000
DTSTAMP:20260423T104955
CREATED:20231009T055807Z
LAST-MODIFIED:20231009T060436Z
UID:10000080-1699092000-1699099200@test.sustainablemontereycounty.org
SUMMARY:Beta Park Workday - Seaside
DESCRIPTION:Join Friends of Seaside Parks  (FOSPA) at Beta Park 10 am -12 pm. Tools will be provided.  Please bring your own work gloves\, drinking water\, snacks\, and a positive community spirit.\n\n\n\nVolunteers gather in a different Seaside neighborhood park each Saturday from 10 am to 12 pm rain or shine!\n\nLocated between Vallejo\, Luzern and St. Elmo Streets. \n\n\n\n\nFind the full workday event calendar on the FOSPA website:  http://friendsofseasideparks.org/
URL:https://test.sustainablemontereycounty.org/event/beta-park-workday-seaside/2023-11-04/
LOCATION:Beta Park\, between Vallejo and Soto St\, Seaside\, CA\, 93955
ORGANIZER;CN="Friends of Seaside Parks":MAILTO:fospa.info@gmail.com
END:VEVENT
BEGIN:VEVENT
DTSTART;TZID=America/Los_Angeles:20231028T100000
DTEND;TZID=America/Los_Angeles:20231028T120000
DTSTAMP:20260423T104955
CREATED:20231009T055258Z
LAST-MODIFIED:20231009T055331Z
UID:10000076-1698487200-1698494400@test.sustainablemontereycounty.org
SUMMARY:Mescal Neil Park Workday - Seaside
DESCRIPTION:Join Friends of Seaside Parks  (FOSPA) at Mescal Neil Park 10 am -12 pm. Tools will be provided.  Please bring your own work gloves\, drinking water\, snacks\, and a positive community spirit.\n\n\n\nVolunteers gather in a different Seaside neighborhood park each Saturday from 10 am to 12 pm rain or shine!\n\nBetween San Pablo Avenue\, Lincoln Street\, and Yerba Buena Court.\n\n\n\n\nFind the full workday event calendar on the FOSPA website:  http://friendsofseasideparks.org/
URL:https://test.sustainablemontereycounty.org/event/mescal-neil-park-workday-seaside/2023-10-28/
LOCATION:Mescal Neil Park\, Seaside\, CA\, Off Mescal Street between Ancon Street and Costa Street\, Seaside\, CA\, 93955-4003\, United States
ORGANIZER;CN="Friends of Seaside Parks":MAILTO:fospa.info@gmail.com
END:VEVENT
BEGIN:VEVENT
DTSTART;TZID=America/Los_Angeles:20231021T100000
DTEND;TZID=America/Los_Angeles:20231021T120000
DTSTAMP:20260423T104955
CREATED:20231009T054616Z
LAST-MODIFIED:20231009T054713Z
UID:10000072-1697882400-1697889600@test.sustainablemontereycounty.org
SUMMARY:Havana Soliz Park Workday - Seaside
DESCRIPTION:Join Friends of Seaside Parks  (FOSPA) at Havana Soliz Park 10 am -12 pm. Tools will be provided.  Please bring your own work gloves\, drinking water\, snacks\, and a positive community spirit.\n\n\n\nVolunteers gather in a different Seaside neighborhood park each Saturday from 10 am to 12 pm rain or shine!\n\nLocated between Havana Street\, Lincoln Street\, and San Pablo Avenue. \n\n\n\n\nFind the full workday event calendar on the FOSPA website:  http://friendsofseasideparks.org/
URL:https://test.sustainablemontereycounty.org/event/havana-soliz-park-workday-seaside/2023-10-21/
LOCATION:Havana Soliz Park\, Seaside\, CA\, Between Lincoln Street and Havana Street\, Seaside\, CA\, 93955-4003\, United States
ORGANIZER;CN="Friends of Seaside Parks":MAILTO:fospa.info@gmail.com
END:VEVENT
BEGIN:VEVENT
DTSTART;TZID=America/Los_Angeles:20231014T100000
DTEND;TZID=America/Los_Angeles:20231014T120000
DTSTAMP:20260423T104955
CREATED:20231009T053809Z
LAST-MODIFIED:20231009T053809Z
UID:10000068-1697277600-1697284800@test.sustainablemontereycounty.org
SUMMARY:Lincoln Cunningham Park Workday - Seaside
DESCRIPTION:Join Friends of Seaside Parks  (FOSPA) at Lincoln Cunningham Park 10 am -12 pm. Tools will be provided.  Please bring your own work gloves\, drinking water\, snacks\, and a positive community spirit.\n\n\n\nVolunteers gather in a different Seaside neighborhood park each Saturday from 10 am to 12 pm rain or shine!\n\nBetween San Pablo Avenue\, Lincoln Street\, and Yerba Buena Court.\n\n\n\n\nFind the full workday event calendar on the FOSPA website:  http://friendsofseasideparks.org/
URL:https://test.sustainablemontereycounty.org/event/lincoln-cunningham-park-workday-seaside/2023-10-14/
LOCATION:Lincoln Cunningham Park\, Seaside\, CA\, J58F+5FX\, Seaside\, CA\, 93955\, United States
ORGANIZER;CN="Friends of Seaside Parks":MAILTO:fospa.info@gmail.com
END:VEVENT
BEGIN:VEVENT
DTSTART;TZID=America/Los_Angeles:20230826T110000
DTEND;TZID=America/Los_Angeles:20230826T173000
DTSTAMP:20260423T104955
CREATED:20230706T064455Z
LAST-MODIFIED:20230706T064656Z
UID:10000023-1693047600-1693071000@test.sustainablemontereycounty.org
SUMMARY:West End Celebration 2023
DESCRIPTION:Celebrate the arts with and four stages of top-notch Monterey County Musicians.  Experience the eco-friendly perspective in the West End Celebration’s “Green Scene”  and check out the information booths offering information on everything from community gardens to solar power.  Stop by the Sustainable Seaside/FOSPA booth Saturday and Sunday to learn about our work in the community and upcoming events. \nBackground:  Each year\, the fourth week in August\, six blocks within Sand City are closed off and the streets are transformed into pedestrian galleries and sidewalk theater for visual and performing artists. Live music fills the air from three stages showcasing local and regional acts with state of the art sound quality–all as you stroll by vendors\, galleries\, small local businesses\, and nonprofit organizations. \nFor more details\, visit https://westendcelebration.com/
URL:https://test.sustainablemontereycounty.org/event/west-end-celebration-2023/
LOCATION:Sand City\, CA\, Between Contra Costa\, Redwood\, Ortiz & Holly streets\, Sand City\, CA\, 93955\, United States
END:VEVENT
END:VCALENDAR