BEGIN:VCALENDAR
VERSION:2.0
PRODID:-//Communities for Sustainable Monterey County - ECPv6.15.18//NONSGML v1.0//EN
CALSCALE:GREGORIAN
METHOD:PUBLISH
X-ORIGINAL-URL:https://test.sustainablemontereycounty.org
X-WR-CALDESC:Events for Communities for Sustainable Monterey County
REFRESH-INTERVAL;VALUE=DURATION:PT1H
X-Robots-Tag:noindex
X-PUBLISHED-TTL:PT1H
BEGIN:VTIMEZONE
TZID:America/Los_Angeles
BEGIN:DAYLIGHT
TZOFFSETFROM:-0800
TZOFFSETTO:-0700
TZNAME:PDT
DTSTART:20230312T100000
END:DAYLIGHT
BEGIN:STANDARD
TZOFFSETFROM:-0700
TZOFFSETTO:-0800
TZNAME:PST
DTSTART:20231105T090000
END:STANDARD
BEGIN:DAYLIGHT
TZOFFSETFROM:-0800
TZOFFSETTO:-0700
TZNAME:PDT
DTSTART:20240310T100000
END:DAYLIGHT
BEGIN:STANDARD
TZOFFSETFROM:-0700
TZOFFSETTO:-0800
TZNAME:PST
DTSTART:20241103T090000
END:STANDARD
BEGIN:DAYLIGHT
TZOFFSETFROM:-0800
TZOFFSETTO:-0700
TZNAME:PDT
DTSTART:20250309T100000
END:DAYLIGHT
BEGIN:STANDARD
TZOFFSETFROM:-0700
TZOFFSETTO:-0800
TZNAME:PST
DTSTART:20251102T090000
END:STANDARD
END:VTIMEZONE
BEGIN:VEVENT
DTSTART;TZID=America/Los_Angeles:20240622T100000
DTEND;TZID=America/Los_Angeles:20240622T120000
DTSTAMP:20260422T224544
CREATED:20240619T061841Z
LAST-MODIFIED:20240619T061841Z
UID:10001385-1719050400-1719057600@test.sustainablemontereycounty.org
SUMMARY:CSMC Summer Quarter Brunch
DESCRIPTION:Come and hear the latest news from our CSMC local action groups and community garden projects. In our second hour\, we will hear presentations from the newly formed committees working on CSMC policies and processes that are certain to impact all of our fiscally sponsored groups. Your feedback is needed and welcome as we steer the course for the nonprofit going forward. And of course\, there will be tasty brunch snacks and drinks available throughout the event and time to visit with fellow leaders and volunteers.
URL:https://test.sustainablemontereycounty.org/event/csmc-summer-quarter-brunch/
LOCATION:El Estero Community Center\, 777 Pearl St.\, Monterey\, CA\, 93940\, United States
ORGANIZER;CN="Communities for Sustainable Monterey County":MAILTO:info@csmc.eco
END:VEVENT
END:VCALENDAR